BEGIN:VCALENDAR
VERSION:2.0
PRODID:-//District 109 - ECPv6.15.20//NONSGML v1.0//EN
CALSCALE:GREGORIAN
METHOD:PUBLISH
X-WR-CALNAME:District 109
X-ORIGINAL-URL:https://district109.org
X-WR-CALDESC:Events for District 109
REFRESH-INTERVAL;VALUE=DURATION:PT1H
X-Robots-Tag:noindex
X-PUBLISHED-TTL:PT1H
BEGIN:VTIMEZONE
TZID:Europe/Zurich
BEGIN:DAYLIGHT
TZOFFSETFROM:+0100
TZOFFSETTO:+0200
TZNAME:CEST
DTSTART:20230326T010000
END:DAYLIGHT
BEGIN:STANDARD
TZOFFSETFROM:+0200
TZOFFSETTO:+0100
TZNAME:CET
DTSTART:20231029T010000
END:STANDARD
BEGIN:DAYLIGHT
TZOFFSETFROM:+0100
TZOFFSETTO:+0200
TZNAME:CEST
DTSTART:20240331T010000
END:DAYLIGHT
BEGIN:STANDARD
TZOFFSETFROM:+0200
TZOFFSETTO:+0100
TZNAME:CET
DTSTART:20241027T010000
END:STANDARD
BEGIN:DAYLIGHT
TZOFFSETFROM:+0100
TZOFFSETTO:+0200
TZNAME:CEST
DTSTART:20250330T010000
END:DAYLIGHT
BEGIN:STANDARD
TZOFFSETFROM:+0200
TZOFFSETTO:+0100
TZNAME:CET
DTSTART:20251026T010000
END:STANDARD
END:VTIMEZONE
BEGIN:VEVENT
DTSTART;TZID=Europe/Zurich:20240731T080000
DTEND;TZID=Europe/Zurich:20240731T170000
DTSTAMP:20260424T021335
CREATED:20240731T160740Z
LAST-MODIFIED:20240731T160740Z
UID:10132-1722412800-1722445200@district109.org
SUMMARY:100 years anniversary!
DESCRIPTION:When Ralph C. Smedley formed the first official Toastmasters club in 1924\, he sought to create a collaborative learning environment where young men could learn the art of public speaking. A century later\, nearly 8 million members (of all genders) in 148 countries/territories around the world have worked on bettering themselves thanks to Smedley’s vision of a club environment where members prepare and deliver speeches\, respond to impromptu questions\, and give and receive constructive feedback. \nRead more about the history of Toastmasters here…
URL:https://district109.org/event/100-years-anniversary/
END:VEVENT
END:VCALENDAR