BEGIN:VCALENDAR
VERSION:2.0
PRODID:-//District 109 - ECPv6.15.20//NONSGML v1.0//EN
CALSCALE:GREGORIAN
METHOD:PUBLISH
X-WR-CALNAME:District 109
X-ORIGINAL-URL:https://district109.org
X-WR-CALDESC:Events for District 109
REFRESH-INTERVAL;VALUE=DURATION:PT1H
X-Robots-Tag:noindex
X-PUBLISHED-TTL:PT1H
BEGIN:VTIMEZONE
TZID:Europe/Zurich
BEGIN:DAYLIGHT
TZOFFSETFROM:+0100
TZOFFSETTO:+0200
TZNAME:CEST
DTSTART:20240331T010000
END:DAYLIGHT
BEGIN:STANDARD
TZOFFSETFROM:+0200
TZOFFSETTO:+0100
TZNAME:CET
DTSTART:20241027T010000
END:STANDARD
BEGIN:DAYLIGHT
TZOFFSETFROM:+0100
TZOFFSETTO:+0200
TZNAME:CEST
DTSTART:20250330T010000
END:DAYLIGHT
BEGIN:STANDARD
TZOFFSETFROM:+0200
TZOFFSETTO:+0100
TZNAME:CET
DTSTART:20251026T010000
END:STANDARD
BEGIN:DAYLIGHT
TZOFFSETFROM:+0100
TZOFFSETTO:+0200
TZNAME:CEST
DTSTART:20260329T010000
END:DAYLIGHT
BEGIN:STANDARD
TZOFFSETFROM:+0200
TZOFFSETTO:+0100
TZNAME:CET
DTSTART:20261025T010000
END:STANDARD
END:VTIMEZONE
BEGIN:VEVENT
DTSTART;TZID=Europe/Zurich:20250812T183000
DTEND;TZID=Europe/Zurich:20250812T193000
DTSTAMP:20260424T021411
CREATED:20250728T200131Z
LAST-MODIFIED:20250810T174842Z
UID:11279-1755023400-1755027000@district109.org
SUMMARY:Club Growth Cafe - Episode #1 - Club and Member Growth
DESCRIPTION:This could be a dream… or a nightmare: your VPPR has worked diligently\,and your club is being graced with 1\, 2 or 5 guests at every meeting.  Yikes!\nHow can you transform those enthusiastic listeners into dedicated\, active\, long-time members of your club?! \nLisa Marie Gelhaus is still searching for the answers.  That’s why when you participate in her workshop this Tuesday\, bring your thinking cap\, your hopes and dreams\, and stories of successes and failures!  EVERYONE will be involved in creating the “VIP-Guest-to-Servant-Member Manual”. \nShe suggests you signing into the zoomcall on a PC or Mac\, if you can. We will be collaborating on the zoom whiteboard and using shared google docs – best if you’re ready to manage multiple windows. \nWith your help we will come up with actionable ideas and solutions that you can take back to your club! \nSpecial Guest – Lisa Marie Gelhaus – Award winning Speaker\, Trainer and Mentor. \nProject owner: Giannis Kanlis and Tuana Arikboga \nZoom Link: https://us06web.zoom.us/j/84148899541?pwd=acVD5unbgjUuAN4XMda7dEtFbJkh6c.1 \nThis is your one-hour masterclass on: \n\n\nDesigning club experiences that spark engagement \n\n\nBuilding leaders through legacy\, not luck \n\n\nWhat truly drives club engagement and quality \n\n\n📢 Remember\, our District 109 offers 109 ways to lead with your voice !!!
URL:https://district109.org/event/club-growth-cafe-cgd-initiation/
LOCATION:Online Event
END:VEVENT
END:VCALENDAR