BEGIN:VCALENDAR
VERSION:2.0
PRODID:-//District 109 - ECPv6.15.20//NONSGML v1.0//EN
CALSCALE:GREGORIAN
METHOD:PUBLISH
X-WR-CALNAME:District 109
X-ORIGINAL-URL:https://district109.org
X-WR-CALDESC:Events for District 109
REFRESH-INTERVAL;VALUE=DURATION:PT1H
X-Robots-Tag:noindex
X-PUBLISHED-TTL:PT1H
BEGIN:VTIMEZONE
TZID:Europe/Zurich
BEGIN:DAYLIGHT
TZOFFSETFROM:+0100
TZOFFSETTO:+0200
TZNAME:CEST
DTSTART:20240331T010000
END:DAYLIGHT
BEGIN:STANDARD
TZOFFSETFROM:+0200
TZOFFSETTO:+0100
TZNAME:CET
DTSTART:20241027T010000
END:STANDARD
BEGIN:DAYLIGHT
TZOFFSETFROM:+0100
TZOFFSETTO:+0200
TZNAME:CEST
DTSTART:20250330T010000
END:DAYLIGHT
BEGIN:STANDARD
TZOFFSETFROM:+0200
TZOFFSETTO:+0100
TZNAME:CET
DTSTART:20251026T010000
END:STANDARD
BEGIN:DAYLIGHT
TZOFFSETFROM:+0100
TZOFFSETTO:+0200
TZNAME:CEST
DTSTART:20260329T010000
END:DAYLIGHT
BEGIN:STANDARD
TZOFFSETFROM:+0200
TZOFFSETTO:+0100
TZNAME:CET
DTSTART:20261025T010000
END:STANDARD
END:VTIMEZONE
BEGIN:VEVENT
DTSTART;TZID=Europe/Zurich:20250820T184500
DTEND;TZID=Europe/Zurich:20250820T203000
DTSTAMP:20260424T023629
CREATED:20250720T224036Z
LAST-MODIFIED:20250725T131650Z
UID:11208-1755715500-1755721800@district109.org
SUMMARY:Division C - 6th Summer mini-COT German Language - Online
DESCRIPTION:Registration required to get the Zoom Link: https://docs.google.com/forms/d/e/1FAIpQLSeOHvBdI1TNW-MqwC8CLV3JEZsPZp2_XUvomkrTrKJSRVtwlA/viewform \n\nVP Education\nClub Treasurer\nVP Membership\nVP Public Relations\nMindfulness
URL:https://district109.org/event/division-c-6th-summer-mini-cot-german-language-online/
LOCATION:Online Event
END:VEVENT
END:VCALENDAR