BEGIN:VCALENDAR
VERSION:2.0
PRODID:-//District 109 - ECPv6.15.20//NONSGML v1.0//EN
CALSCALE:GREGORIAN
METHOD:PUBLISH
X-WR-CALNAME:District 109
X-ORIGINAL-URL:https://district109.org
X-WR-CALDESC:Events for District 109
REFRESH-INTERVAL;VALUE=DURATION:PT1H
X-Robots-Tag:noindex
X-PUBLISHED-TTL:PT1H
BEGIN:VTIMEZONE
TZID:Europe/Zurich
BEGIN:DAYLIGHT
TZOFFSETFROM:+0100
TZOFFSETTO:+0200
TZNAME:CEST
DTSTART:20240331T010000
END:DAYLIGHT
BEGIN:STANDARD
TZOFFSETFROM:+0200
TZOFFSETTO:+0100
TZNAME:CET
DTSTART:20241027T010000
END:STANDARD
BEGIN:DAYLIGHT
TZOFFSETFROM:+0100
TZOFFSETTO:+0200
TZNAME:CEST
DTSTART:20250330T010000
END:DAYLIGHT
BEGIN:STANDARD
TZOFFSETFROM:+0200
TZOFFSETTO:+0100
TZNAME:CET
DTSTART:20251026T010000
END:STANDARD
BEGIN:DAYLIGHT
TZOFFSETFROM:+0100
TZOFFSETTO:+0200
TZNAME:CEST
DTSTART:20260329T010000
END:DAYLIGHT
BEGIN:STANDARD
TZOFFSETFROM:+0200
TZOFFSETTO:+0100
TZNAME:CET
DTSTART:20261025T010000
END:STANDARD
END:VTIMEZONE
BEGIN:VEVENT
DTSTART;TZID=Europe/Zurich:20250821T184500
DTEND;TZID=Europe/Zurich:20250821T203000
DTSTAMP:20260424T021531
CREATED:20250720T224305Z
LAST-MODIFIED:20250820T194404Z
UID:11210-1755801900-1755808200@district109.org
SUMMARY:Division C - 7th Summer mini-COT English - In person
DESCRIPTION:Registration required here: https://forms.gle/dcvEAABGTEiwkndT9 \nAgenda: \n\nVP Membership\nVP Mentorship\nCorporate vs Community\nContest requirements\n\nLocation: Basel Multilingual Toastmasters Club\, S01 Auditorium at Rosshofgasse 2\, Basel.
URL:https://district109.org/event/division-c-7th-summer-mini-cot-english-in-person/
END:VEVENT
END:VCALENDAR