BEGIN:VCALENDAR
VERSION:2.0
PRODID:-//District 109 - ECPv6.15.20//NONSGML v1.0//EN
CALSCALE:GREGORIAN
METHOD:PUBLISH
X-ORIGINAL-URL:https://district109.org
X-WR-CALDESC:Events for District 109
REFRESH-INTERVAL;VALUE=DURATION:PT1H
X-Robots-Tag:noindex
X-PUBLISHED-TTL:PT1H
BEGIN:VTIMEZONE
TZID:Europe/Zurich
BEGIN:DAYLIGHT
TZOFFSETFROM:+0100
TZOFFSETTO:+0200
TZNAME:CEST
DTSTART:20240331T010000
END:DAYLIGHT
BEGIN:STANDARD
TZOFFSETFROM:+0200
TZOFFSETTO:+0100
TZNAME:CET
DTSTART:20241027T010000
END:STANDARD
BEGIN:DAYLIGHT
TZOFFSETFROM:+0100
TZOFFSETTO:+0200
TZNAME:CEST
DTSTART:20250330T010000
END:DAYLIGHT
BEGIN:STANDARD
TZOFFSETFROM:+0200
TZOFFSETTO:+0100
TZNAME:CET
DTSTART:20251026T010000
END:STANDARD
BEGIN:DAYLIGHT
TZOFFSETFROM:+0100
TZOFFSETTO:+0200
TZNAME:CEST
DTSTART:20260329T010000
END:DAYLIGHT
BEGIN:STANDARD
TZOFFSETFROM:+0200
TZOFFSETTO:+0100
TZNAME:CET
DTSTART:20261025T010000
END:STANDARD
END:VTIMEZONE
BEGIN:VEVENT
DTSTART;TZID=Europe/Zurich:20250914T180000
DTEND;TZID=Europe/Zurich:20250914T200000
DTSTAMP:20260424T041308
CREATED:20250822T171243Z
LAST-MODIFIED:20250825T200535Z
UID:11404-1757872800-1757880000@district109.org
SUMMARY:DOTx session - Who was Robert and why do we need his rules?
DESCRIPTION:Who was Robert and why do we need his rules? – Gitel Hesselberg\,  District Parliamentarian \nZoom link to follow soon!
URL:https://district109.org/event/dotx-session-2/
LOCATION:Online Event
END:VEVENT
END:VCALENDAR