BEGIN:VCALENDAR
VERSION:2.0
PRODID:-//District 109 - ECPv6.15.20//NONSGML v1.0//EN
CALSCALE:GREGORIAN
METHOD:PUBLISH
X-WR-CALNAME:District 109
X-ORIGINAL-URL:https://district109.org
X-WR-CALDESC:Events for District 109
REFRESH-INTERVAL;VALUE=DURATION:PT1H
X-Robots-Tag:noindex
X-PUBLISHED-TTL:PT1H
BEGIN:VTIMEZONE
TZID:Europe/Zurich
BEGIN:DAYLIGHT
TZOFFSETFROM:+0100
TZOFFSETTO:+0200
TZNAME:CEST
DTSTART:20240331T010000
END:DAYLIGHT
BEGIN:STANDARD
TZOFFSETFROM:+0200
TZOFFSETTO:+0100
TZNAME:CET
DTSTART:20241027T010000
END:STANDARD
BEGIN:DAYLIGHT
TZOFFSETFROM:+0100
TZOFFSETTO:+0200
TZNAME:CEST
DTSTART:20250330T010000
END:DAYLIGHT
BEGIN:STANDARD
TZOFFSETFROM:+0200
TZOFFSETTO:+0100
TZNAME:CET
DTSTART:20251026T010000
END:STANDARD
BEGIN:DAYLIGHT
TZOFFSETFROM:+0100
TZOFFSETTO:+0200
TZNAME:CEST
DTSTART:20260329T010000
END:DAYLIGHT
BEGIN:STANDARD
TZOFFSETFROM:+0200
TZOFFSETTO:+0100
TZNAME:CET
DTSTART:20261025T010000
END:STANDARD
END:VTIMEZONE
BEGIN:VEVENT
DTSTART;TZID=Europe/Zurich:20250916T183000
DTEND;TZID=Europe/Zurich:20250916T193000
DTSTAMP:20260424T041106
CREATED:20250830T104949Z
LAST-MODIFIED:20250907T183854Z
UID:11483-1758047400-1758051000@district109.org
SUMMARY:Peer-to-Peer Mentors: The DNA of a Distinguished Club\, Stefano McGhee\, DTM
DESCRIPTION:🌟 What makes a Toastmasters club truly thrive?\nJoin us for an inspiring workshop where we uncover the secrets behind club excellence and lasting success. 🌟\n🗓 Date: *16th September*\n⏰ Time: *18:30 (Rome time)*\n🎥 Where: Online – Register here: https://us06web.zoom.us/j/84817647879?pwd=0baeTlRWRxQvjWbL9R8CBbwPUJOdTX.1 \n🚀 Special Guest: Stefano McGhee\, DTM\n🎯 Session Title: The DNA of a Distinguished Club \n✨ Stefano McGhee\, DTM\, Candidate for International President-Elect\nA Toastmasters member since 2005\, Stefano has held leadership roles from Area Governor to International Director\, leading District 31 to Select Distinguished. Professionally\, he is Senior Director of Technology Operations at Harvard Business Publishing\, bringing extensive expertise in leadership\, strategy\, and innovation to Toastmasters worldwide.
URL:https://district109.org/event/peer-to-peer-mentoring-the-dna-of-a-distinguished-club-stefano-mchgee-dtm/
LOCATION:Online Event
END:VEVENT
END:VCALENDAR