BEGIN:VCALENDAR
VERSION:2.0
PRODID:-//District 109 - ECPv6.15.20//NONSGML v1.0//EN
CALSCALE:GREGORIAN
METHOD:PUBLISH
X-WR-CALNAME:District 109
X-ORIGINAL-URL:https://district109.org
X-WR-CALDESC:Events for District 109
REFRESH-INTERVAL;VALUE=DURATION:PT1H
X-Robots-Tag:noindex
X-PUBLISHED-TTL:PT1H
BEGIN:VTIMEZONE
TZID:Europe/Zurich
BEGIN:DAYLIGHT
TZOFFSETFROM:+0100
TZOFFSETTO:+0200
TZNAME:CEST
DTSTART:20230326T010000
END:DAYLIGHT
BEGIN:STANDARD
TZOFFSETFROM:+0200
TZOFFSETTO:+0100
TZNAME:CET
DTSTART:20231029T010000
END:STANDARD
BEGIN:DAYLIGHT
TZOFFSETFROM:+0100
TZOFFSETTO:+0200
TZNAME:CEST
DTSTART:20240331T010000
END:DAYLIGHT
BEGIN:STANDARD
TZOFFSETFROM:+0200
TZOFFSETTO:+0100
TZNAME:CET
DTSTART:20241027T010000
END:STANDARD
BEGIN:DAYLIGHT
TZOFFSETFROM:+0100
TZOFFSETTO:+0200
TZNAME:CEST
DTSTART:20250330T010000
END:DAYLIGHT
BEGIN:STANDARD
TZOFFSETFROM:+0200
TZOFFSETTO:+0100
TZNAME:CET
DTSTART:20251026T010000
END:STANDARD
END:VTIMEZONE
BEGIN:VTIMEZONE
TZID:America/Denver
BEGIN:DAYLIGHT
TZOFFSETFROM:-0700
TZOFFSETTO:-0600
TZNAME:MDT
DTSTART:20230312T090000
END:DAYLIGHT
BEGIN:STANDARD
TZOFFSETFROM:-0600
TZOFFSETTO:-0700
TZNAME:MST
DTSTART:20231105T080000
END:STANDARD
BEGIN:DAYLIGHT
TZOFFSETFROM:-0700
TZOFFSETTO:-0600
TZNAME:MDT
DTSTART:20240310T090000
END:DAYLIGHT
BEGIN:STANDARD
TZOFFSETFROM:-0600
TZOFFSETTO:-0700
TZNAME:MST
DTSTART:20241103T080000
END:STANDARD
BEGIN:DAYLIGHT
TZOFFSETFROM:-0700
TZOFFSETTO:-0600
TZNAME:MDT
DTSTART:20250309T090000
END:DAYLIGHT
BEGIN:STANDARD
TZOFFSETFROM:-0600
TZOFFSETTO:-0700
TZNAME:MST
DTSTART:20251102T080000
END:STANDARD
END:VTIMEZONE
BEGIN:VEVENT
DTSTART;TZID=Europe/Zurich:20240801T180000
DTEND;TZID=Europe/Zurich:20240801T190000
DTSTAMP:20260424T004450
CREATED:20240731T155753Z
LAST-MODIFIED:20240731T155753Z
UID:10119-1722535200-1722538800@district109.org
SUMMARY:TLIx Summer 2024: Service Leadership Game
DESCRIPTION:Presenter: Katia Burdet\nDiscover how to build your leadership diary and win in the Service Leadership Game. Learn how to enhance your Toastmasters journey by taking on roles at your club meetings\, area\, division\, and district. \nRegister here
URL:https://district109.org/event/tlix-summer-2024-service-leadership-game/
ORGANIZER;CN="Harry Loots%2C DTM":MAILTO:harry.loots.dtm@gmail.com
END:VEVENT
BEGIN:VEVENT
DTSTART;TZID=Europe/Zurich:20240801T190000
DTEND;TZID=Europe/Zurich:20240801T200000
DTSTAMP:20260424T004450
CREATED:20240731T160002Z
LAST-MODIFIED:20240731T160002Z
UID:10126-1722538800-1722542400@district109.org
SUMMARY:TLIx Summer 2024: Prospective Member Engagement
DESCRIPTION:Presenter: Grete Merlyn\nStrategies and techniques to effectively engage and attract prospective members. Participants will learn how to identify potential members\, communicate the value of membership\, and build meaningful connections. \nRegister here
URL:https://district109.org/event/tlix-summer-2024-prospective-member-engagement/
ORGANIZER;CN="Harry Loots%2C DTM":MAILTO:harry.loots.dtm@gmail.com
END:VEVENT
BEGIN:VEVENT
DTSTART;VALUE=DATE:20240812
DTEND;VALUE=DATE:20240813
DTSTAMP:20260424T004450
CREATED:20240726T072110Z
LAST-MODIFIED:20240726T072717Z
UID:10102-1723420800-1723507199@district109.org
SUMMARY:District Leader Training
DESCRIPTION:
URL:https://district109.org/event/district-leader-training/
LOCATION:Toasmasters International Convention\, Anaheim\, CA\, United States
CATEGORIES:Training
END:VEVENT
BEGIN:VEVENT
DTSTART;VALUE=DATE:20240813
DTEND;VALUE=DATE:20240814
DTSTAMP:20260424T004450
CREATED:20240726T070836Z
LAST-MODIFIED:20240726T072704Z
UID:10093-1723507200-1723593599@district109.org
SUMMARY:District Leader Training
DESCRIPTION:
URL:https://district109.org/event/district-leader-training-2/
LOCATION:Toasmasters International Convention\, Anaheim\, CA\, United States
CATEGORIES:Training
END:VEVENT
BEGIN:VEVENT
DTSTART;VALUE=DATE:20240814
DTEND;VALUE=DATE:20240815
DTSTAMP:20260424T004450
CREATED:20240726T070836Z
LAST-MODIFIED:20240726T072730Z
UID:10094-1723593600-1723679999@district109.org
SUMMARY:Toastmasters International Convention
DESCRIPTION:
URL:https://district109.org/event/toastmasters-international-convention/
LOCATION:Toasmasters International Convention\, Anaheim\, CA\, United States
CATEGORIES:Conferences
END:VEVENT
BEGIN:VEVENT
DTSTART;VALUE=DATE:20240815
DTEND;VALUE=DATE:20240816
DTSTAMP:20260424T004450
CREATED:20240726T070836Z
LAST-MODIFIED:20240726T072730Z
UID:10095-1723680000-1723766399@district109.org
SUMMARY:Toastmasters International Convention
DESCRIPTION:
URL:https://district109.org/event/toastmasters-international-convention-2/
LOCATION:Toasmasters International Convention\, Anaheim\, CA\, United States
CATEGORIES:Conferences
END:VEVENT
BEGIN:VEVENT
DTSTART;VALUE=DATE:20240816
DTEND;VALUE=DATE:20240817
DTSTAMP:20260424T004450
CREATED:20240726T070836Z
LAST-MODIFIED:20240726T072730Z
UID:10096-1723766400-1723852799@district109.org
SUMMARY:Toastmasters International Convention
DESCRIPTION:
URL:https://district109.org/event/toastmasters-international-convention-3/
LOCATION:Toasmasters International Convention\, Anaheim\, CA\, United States
CATEGORIES:Conferences
END:VEVENT
BEGIN:VEVENT
DTSTART;VALUE=DATE:20240817
DTEND;VALUE=DATE:20240818
DTSTAMP:20260424T004450
CREATED:20240726T070836Z
LAST-MODIFIED:20240726T072730Z
UID:10097-1723852800-1723939199@district109.org
SUMMARY:Toastmasters International Convention
DESCRIPTION:
URL:https://district109.org/event/toastmasters-international-convention-4/
LOCATION:Toasmasters International Convention\, Anaheim\, CA\, United States
CATEGORIES:Conferences
END:VEVENT
END:VCALENDAR